BEGIN:VCALENDAR
VERSION:2.0
PRODID:-//Beeldenstorm - ECPv5.1.6//NONSGML v1.0//EN
CALSCALE:GREGORIAN
METHOD:PUBLISH
X-WR-CALNAME:Beeldenstorm
X-ORIGINAL-URL:https://beeldenstorm.be/web
X-WR-CALDESC:Evenementen voor Beeldenstorm
BEGIN:VTIMEZONE
TZID:Europe/Brussels
BEGIN:DAYLIGHT
TZOFFSETFROM:+0100
TZOFFSETTO:+0200
TZNAME:CEST
DTSTART:20210328T010000
END:DAYLIGHT
BEGIN:STANDARD
TZOFFSETFROM:+0200
TZOFFSETTO:+0100
TZNAME:CET
DTSTART:20211031T010000
END:STANDARD
END:VTIMEZONE
BEGIN:VEVENT
DTSTART;TZID=Europe/Brussels:20211124T190000
DTEND;TZID=Europe/Brussels:20211124T220000
DTSTAMP:20260419T170102
CREATED:20211103T151600Z
LAST-MODIFIED:20211103T151601Z
UID:14643-1637780400-1637791200@beeldenstorm.be
SUMMARY:24 karaat & plus concert: "Koi Collective"
DESCRIPTION:Koi Collective\n\n\n\nEmmy Wills – Piano\nMaarten Vergauwen – saxofoon\n\n\n\n\nProgramma\n\n\n\nWard De Jonghe: (…fend…) 10′\nApolline Jesupret: Prélude à l’Abandon 8′\nEmile Daems: Refractions 6′\nSarah Triquet: Rêves flous 8′\nPhilippe Lamouris: Ur 5′\n\n\n\n\n\n\n\n\n\n\nkoi_colective_poster_met_coppyright_fb   deel / partager:FacebookTwitterE-mailPrint
URL:https://beeldenstorm.be/web/agenda-item/24-karaat-plus-concert-koi-collective/
LOCATION:beeldenstorm\, bergensesteenweg 145\, anderlecht\, brussel\, 1070\, België
GEO:50.8425689;4.3313349
X-APPLE-STRUCTURED-LOCATION;VALUE=URI;X-ADDRESS=beeldenstorm bergensesteenweg 145 anderlecht brussel 1070 België;X-APPLE-RADIUS=500;X-TITLE=bergensesteenweg 145:geo:4.3313349,50.8425689
END:VEVENT
END:VCALENDAR