BEGIN:VCALENDAR
VERSION:2.0
PRODID:-//Beeldenstorm - ECPv5.1.6//NONSGML v1.0//EN
CALSCALE:GREGORIAN
METHOD:PUBLISH
X-WR-CALNAME:Beeldenstorm
X-ORIGINAL-URL:https://beeldenstorm.be/web
X-WR-CALDESC:Evenementen voor Beeldenstorm
BEGIN:VTIMEZONE
TZID:Europe/Brussels
BEGIN:DAYLIGHT
TZOFFSETFROM:+0100
TZOFFSETTO:+0200
TZNAME:CEST
DTSTART:20190331T010000
END:DAYLIGHT
BEGIN:STANDARD
TZOFFSETFROM:+0200
TZOFFSETTO:+0100
TZNAME:CET
DTSTART:20191027T010000
END:STANDARD
END:VTIMEZONE
BEGIN:VEVENT
DTSTART;TZID=Europe/Brussels:20190423T160000
DTEND;TZID=Europe/Brussels:20190423T174500
DTSTAMP:20260419T182540
CREATED:20190603T091805Z
LAST-MODIFIED:20190603T093326Z
UID:11828-1556035200-1556041500@beeldenstorm.be
SUMMARY:atelier: Dansen à la carte - 'Lijndansen'
DESCRIPTION:Nieuw ‘lijndansen’ atelier!  \nKom meedansen in groep\, kom genieten van de muziek en van lekker bewegen. Mambo\, disco Madison\, wals\,… staan op het menu van “LIJNDANSEN”. \nHet ritmisch bewegen in een vriendschappelijke sfeer is goed voor de fysieke fitheid en het sociaal contact. \nHoe meer zielen hoe meer vreugd. \n\nWanneer\n\nElke dinsdag van 16u00 tot 17u45 (behalve schoolvakanties)\n\nPrijs per atelier\n\nDansen à la carte – ‘lijndansen’ (kinderen & volwassenen): € 2€50 of 20€ voor 10 lessen\nOpen voor jong en oud\nReservering is verplicht\n\nInschrijvingen & meer info\nwww.beeldenstorm.be/web/beletterd-betekend \n\nsecretariaat@beeldenstorm.be – 02/523 43 50\n\nAdres\n\nBeeldenstorm vzw\,\nBergensesteenweg 145\, 1070 Anderlecht (metro/bus: halte Clemenceau)\niedere werkdag open van 9u30 tot 12u00 en van 14u00 tot 17u00\n\n \n \n  \n  \ndeel / partager:FacebookTwitterE-mailPrint
URL:https://beeldenstorm.be/web/agenda-item/atelier-dansen-a-la-carte-lijndansen-3/2019-04-23/
LOCATION:beeldenstorm\, bergensesteenweg 145\, anderlecht\, brussel\, 1070\, België
CATEGORIES:ateliers,binnenkort,dansen à la carte,intro
ATTACH;FMTTYPE=image/png:https://beeldenstorm.be/web/files/2019/06/Lijndansen-NL_WEB_uitgelicht.png
GEO:50.8425689;4.3313349
X-APPLE-STRUCTURED-LOCATION;VALUE=URI;X-ADDRESS=beeldenstorm bergensesteenweg 145 anderlecht brussel 1070 België;X-APPLE-RADIUS=500;X-TITLE=bergensesteenweg 145:geo:4.3313349,50.8425689
END:VEVENT
END:VCALENDAR