BEGIN:VCALENDAR
VERSION:2.0
PRODID:-//Beeldenstorm - ECPv5.1.6//NONSGML v1.0//EN
CALSCALE:GREGORIAN
METHOD:PUBLISH
X-WR-CALNAME:Beeldenstorm
X-ORIGINAL-URL:https://beeldenstorm.be/web
X-WR-CALDESC:Evenementen voor Beeldenstorm
BEGIN:VTIMEZONE
TZID:Europe/Brussels
BEGIN:DAYLIGHT
TZOFFSETFROM:+0100
TZOFFSETTO:+0200
TZNAME:CEST
DTSTART:20130331T010000
END:DAYLIGHT
BEGIN:STANDARD
TZOFFSETFROM:+0200
TZOFFSETTO:+0100
TZNAME:CET
DTSTART:20131027T010000
END:STANDARD
END:VTIMEZONE
BEGIN:VEVENT
DTSTART;TZID=Europe/Brussels:20131007T091500
DTEND;TZID=Europe/Brussels:20131008T151500
DTSTAMP:20260420T023839
CREATED:20140522T141958Z
LAST-MODIFIED:20140522T142036Z
UID:3590-1381137300-1381245300@beeldenstorm.be
SUMMARY:Beletterd & Betekend
DESCRIPTION:zie de Beletterd & Betekend website en kalender: www.beeldenstorm.be/web/beletterd-betekend/ \n\n\ndeel / partager:FacebookTwitterE-mailPrint
URL:https://beeldenstorm.be/web/agenda-item/beletterd-betekend-93/2013-10-07/
CATEGORIES:Beletterd & Betekend
END:VEVENT
END:VCALENDAR