BEGIN:VCALENDAR
VERSION:2.0
PRODID:-//Beeldenstorm - ECPv5.1.6//NONSGML v1.0//EN
CALSCALE:GREGORIAN
METHOD:PUBLISH
X-WR-CALNAME:Beeldenstorm
X-ORIGINAL-URL:https://beeldenstorm.be/web
X-WR-CALDESC:Evenementen voor Beeldenstorm
BEGIN:VTIMEZONE
TZID:Europe/Brussels
BEGIN:DAYLIGHT
TZOFFSETFROM:+0100
TZOFFSETTO:+0200
TZNAME:CEST
DTSTART:20230326T010000
END:DAYLIGHT
BEGIN:STANDARD
TZOFFSETFROM:+0200
TZOFFSETTO:+0100
TZNAME:CET
DTSTART:20231029T010000
END:STANDARD
END:VTIMEZONE
BEGIN:VEVENT
DTSTART;TZID=Europe/Brussels:20230329T190000
DTEND;TZID=Europe/Brussels:20230329T223000
DTSTAMP:20260420T192636
CREATED:20230313T152725Z
LAST-MODIFIED:20230313T164506Z
UID:15273-1680116400-1680129000@beeldenstorm.be
SUMMARY:Brel
DESCRIPTION:Chanson project\n \n\n\n\n\nNa het succesvolle optreden van vorig jaar\, nodigt Beeldenstorm op 29 maart de nieuwe lichting tweedejaarsstudenten van de afdeling Musical aan het Koninklijk Conservatorium Brussel uit om hun Chansonproject ‘BREL’ te komenbrengen. \n\n\n\nVerwacht u aan een warme avond vol creatief enthousiasme! \n\n\n\n\n\n\n\n\n\n\ndeel / partager:FacebookTwitterE-mailPrint
URL:https://beeldenstorm.be/web/agenda-item/brel/
LOCATION:beeldenstorm\, bergensesteenweg 145\, anderlecht\, brussel\, 1070\, België
GEO:50.8425689;4.3313349
X-APPLE-STRUCTURED-LOCATION;VALUE=URI;X-ADDRESS=beeldenstorm bergensesteenweg 145 anderlecht brussel 1070 België;X-APPLE-RADIUS=500;X-TITLE=bergensesteenweg 145:geo:4.3313349,50.8425689
END:VEVENT
END:VCALENDAR