BEGIN:VCALENDAR
VERSION:2.0
PRODID:-//Beeldenstorm - ECPv5.1.6//NONSGML v1.0//EN
CALSCALE:GREGORIAN
METHOD:PUBLISH
X-WR-CALNAME:Beeldenstorm
X-ORIGINAL-URL:https://beeldenstorm.be/web
X-WR-CALDESC:Evenementen voor Beeldenstorm
BEGIN:VTIMEZONE
TZID:Europe/Brussels
BEGIN:DAYLIGHT
TZOFFSETFROM:+0100
TZOFFSETTO:+0200
TZNAME:CEST
DTSTART:20230326T010000
END:DAYLIGHT
BEGIN:STANDARD
TZOFFSETFROM:+0200
TZOFFSETTO:+0100
TZNAME:CET
DTSTART:20231029T010000
END:STANDARD
END:VTIMEZONE
BEGIN:VEVENT
DTSTART;TZID=Europe/Brussels:20230419T190000
DTEND;TZID=Europe/Brussels:20230419T220000
DTSTAMP:20260420T003740
CREATED:20230403T144019Z
LAST-MODIFIED:20230403T144019Z
UID:15287-1681930800-1681941600@beeldenstorm.be
SUMMARY:Concert Attention Les Apaches
DESCRIPTION:Beeldenstorm\, deMens.nu en Et’cetera records\,presenteren met trots “Attentions Les Apaches!”\,de nieuwe CD van Pianoduo Mimese. \n\n\n\nU wordt vriendelijk uitgenodigd op het CD release concert.Reservatie verplicht!   \n\n\n\n\n\n\n\n\n\n\n\n\n\n\ndeel / partager:FacebookTwitterE-mailPrint
URL:https://beeldenstorm.be/web/agenda-item/concert-attention-les-apaches/
LOCATION:beeldenstorm\, bergensesteenweg 145\, anderlecht\, brussel\, 1070\, België
GEO:50.8425689;4.3313349
X-APPLE-STRUCTURED-LOCATION;VALUE=URI;X-ADDRESS=beeldenstorm bergensesteenweg 145 anderlecht brussel 1070 België;X-APPLE-RADIUS=500;X-TITLE=bergensesteenweg 145:geo:4.3313349,50.8425689
END:VEVENT
END:VCALENDAR