BEGIN:VCALENDAR
VERSION:2.0
PRODID:-//Beletterd &amp; Betekend - ECPv5.1.6//NONSGML v1.0//EN
CALSCALE:GREGORIAN
METHOD:PUBLISH
X-WR-CALNAME:Beletterd &amp; Betekend
X-ORIGINAL-URL:https://beeldenstorm.be/web/beletterd-betekend
X-WR-CALDESC:Evenementen voor Beletterd &amp; Betekend
BEGIN:VTIMEZONE
TZID:Europe/Brussels
BEGIN:DAYLIGHT
TZOFFSETFROM:+0100
TZOFFSETTO:+0200
TZNAME:CEST
DTSTART:20170326T010000
END:DAYLIGHT
BEGIN:STANDARD
TZOFFSETFROM:+0200
TZOFFSETTO:+0100
TZNAME:CET
DTSTART:20171029T010000
END:STANDARD
END:VTIMEZONE
BEGIN:VEVENT
DTSTART;TZID=Europe/Brussels:20170320T093000
DTEND;TZID=Europe/Brussels:20170320T113000
DTSTAMP:20260424T055938
CREATED:20170328T124341Z
LAST-MODIFIED:20170425T124818Z
UID:4405-1490002200-1490009400@beeldenstorm.be
SUMMARY:atelier media
DESCRIPTION:
URL:https://beeldenstorm.be/web/beletterd-betekend/agenda-item/atelier-media-3/
CATEGORIES:video
END:VEVENT
BEGIN:VEVENT
DTSTART;TZID=Europe/Brussels:20170320T133000
DTEND;TZID=Europe/Brussels:20170320T153000
DTSTAMP:20260424T055938
CREATED:20170328T124846Z
LAST-MODIFIED:20170425T124536Z
UID:4410-1490016600-1490023800@beeldenstorm.be
SUMMARY:atelier media
DESCRIPTION:https://www.beeldenstorm.be/movie/Ateliers/Ateliers_Groep-1-kameleon.mp4\n  \nhttps://www.beeldenstorm.be/movie/Ateliers/Ateliers_Groep-2-kameleon.mp4\n  \nhttps://www.beeldenstorm.be/movie/Ateliers/Ateliers_Groep-3-kameleon.mp4\n  \nhttps://www.beeldenstorm.be/movie/Ateliers/Ateliers_Groep-4-kameleon.mp4\n 
URL:https://beeldenstorm.be/web/beletterd-betekend/agenda-item/atelier-media-4/
CATEGORIES:video
END:VEVENT
BEGIN:VEVENT
DTSTART;TZID=Europe/Brussels:20170320T170000
DTEND;TZID=Europe/Brussels:20170320T200000
DTSTAMP:20260424T055938
CREATED:20170125T164539Z
LAST-MODIFIED:20170329T133604Z
UID:4164-1490029200-1490040000@beeldenstorm.be
SUMMARY:atelier muziek (vanaf 14 jaar)
DESCRIPTION:
URL:https://beeldenstorm.be/web/beletterd-betekend/agenda-item/atelier-muziek-vanaf-14-jaar-21/
CATEGORIES:muziek
END:VEVENT
BEGIN:VEVENT
DTSTART;TZID=Europe/Brussels:20170320T180000
DTEND;TZID=Europe/Brussels:20170320T200000
DTSTAMP:20260424T055938
CREATED:20170126T092311Z
LAST-MODIFIED:20170328T073212Z
UID:4168-1490032800-1490040000@beeldenstorm.be
SUMMARY:mode-crea (intergenerationeel)
DESCRIPTION:
URL:https://beeldenstorm.be/web/beletterd-betekend/agenda-item/mode-crea-intergenerationeel-42/
CATEGORIES:naaiatelier
END:VEVENT
END:VCALENDAR