BEGIN:VCALENDAR
VERSION:2.0
PRODID:-//Beletterd &amp; Betekend - ECPv5.1.6//NONSGML v1.0//EN
CALSCALE:GREGORIAN
METHOD:PUBLISH
X-WR-CALNAME:Beletterd &amp; Betekend
X-ORIGINAL-URL:https://beeldenstorm.be/web/beletterd-betekend
X-WR-CALDESC:Evenementen voor Beletterd &amp; Betekend
BEGIN:VTIMEZONE
TZID:Europe/Brussels
BEGIN:DAYLIGHT
TZOFFSETFROM:+0100
TZOFFSETTO:+0200
TZNAME:CEST
DTSTART:20170326T010000
END:DAYLIGHT
BEGIN:STANDARD
TZOFFSETFROM:+0200
TZOFFSETTO:+0100
TZNAME:CET
DTSTART:20171029T010000
END:STANDARD
END:VTIMEZONE
BEGIN:VEVENT
DTSTART;TZID=Europe/Brussels:20171004T090000
DTEND;TZID=Europe/Brussels:20171004T160000
DTSTAMP:20260423T202755
CREATED:20170925T105704Z
LAST-MODIFIED:20171127T113524Z
UID:4573-1507107600-1507132800@beeldenstorm.be
SUMMARY:'Op maat geknipt' naaiatelier
DESCRIPTION:Naaiatelier van 9u00 tot 12u00 en13u00 tot 16u00 \n18 – 77 jaar Snit en naad “Op maat geknipt”. \nKleding herstellen\, herwerken of zelf nieuwe kleren maken.
URL:https://beeldenstorm.be/web/beletterd-betekend/agenda-item/op-maat-geknipt-naaiatelier/2017-10-04/
LOCATION:beeldenstorm\, bergensesteenweg 145\, brussel\, 1070\, Belgium
CATEGORIES:naaiatelier
ATTACH;FMTTYPE=image/jpeg:https://beeldenstorm.be/web/beletterd-betekend/files/2017/09/IMG_9419-e1515424283658.jpg
END:VEVENT
BEGIN:VEVENT
DTSTART;TZID=Europe/Brussels:20171004T130000
DTEND;TZID=Europe/Brussels:20171004T140000
DTSTAMP:20260423T202755
CREATED:20170925T110022Z
LAST-MODIFIED:20171218T145519Z
UID:4609-1507122000-1507125600@beeldenstorm.be
SUMMARY:Spelen met taal
DESCRIPTION:Spelen met taal van 13u00 tot 14u00 \n10 – 12 jaar \nJe oefent je Nederlands op een spelende manier.\nTheater\, verhalen en film inspireren je fantasie.\nJe bedenkt zelf verhalen. Het wordt een uurtje vol leuke activiteiten.
URL:https://beeldenstorm.be/web/beletterd-betekend/agenda-item/spelen-met-taal/2017-10-04/
LOCATION:beeldenstorm\, bergensesteenweg 145\, brussel\, 1070\, Belgium
CATEGORIES:taal
ATTACH;FMTTYPE=image/jpeg:https://beeldenstorm.be/web/beletterd-betekend/files/2017/09/IMG_9373-e1515424245729.jpg
END:VEVENT
BEGIN:VEVENT
DTSTART;TZID=Europe/Brussels:20171004T143000
DTEND;TZID=Europe/Brussels:20171004T163000
DTSTAMP:20260423T202755
CREATED:20170925T110438Z
LAST-MODIFIED:20180328T100902Z
UID:4645-1507127400-1507134600@beeldenstorm.be
SUMMARY:Crea-atelier
DESCRIPTION:Crea-atelier van 14u30 tot 16u30 \n6 – 12 jaar \nTijdens dit atelier leer je verschillende creatieve technieken.\nBeelden maken in klei\, schilderen\, muziek en film.
URL:https://beeldenstorm.be/web/beletterd-betekend/agenda-item/crea-atelier-7/2017-10-04/
LOCATION:beeldenstorm\, bergensesteenweg 145\, brussel\, 1070\, Belgium
CATEGORIES:beeld,Keramiek,koken
ATTACH;FMTTYPE=image/jpeg:https://beeldenstorm.be/web/beletterd-betekend/files/2017/09/IMG_3999.jpg
END:VEVENT
BEGIN:VEVENT
DTSTART;TZID=Europe/Brussels:20171004T143000
DTEND;TZID=Europe/Brussels:20171004T163000
DTSTAMP:20260423T202755
CREATED:20170925T111010Z
LAST-MODIFIED:20171127T132903Z
UID:4681-1507127400-1507134600@beeldenstorm.be
SUMMARY:Gezonde voeding
DESCRIPTION:Gezonde voeding van 14u30 tot 16u30 \n6 – 12 jaar \nEen lekker en gezond vieruurtje maken en daarna serveren aan alle deelnemers van de woensdagnamiddagateliers.\nTante Kip en het huis-tuin-en-keukenkonijn tonen de lekkerste receptjes uit de wereldkeuken.
URL:https://beeldenstorm.be/web/beletterd-betekend/agenda-item/gezonde-voeding/2017-10-04/
LOCATION:beeldenstorm\, bergensesteenweg 145\, brussel\, 1070\, Belgium
CATEGORIES:koken
ATTACH;FMTTYPE=image/jpeg:https://beeldenstorm.be/web/beletterd-betekend/files/2017/09/IMG_9908-e1513610482308.jpg
END:VEVENT
END:VCALENDAR