BEGIN:VCALENDAR
VERSION:2.0
PRODID:-//Beletterd &amp; Betekend - ECPv5.1.6//NONSGML v1.0//EN
CALSCALE:GREGORIAN
METHOD:PUBLISH
X-WR-CALNAME:Beletterd &amp; Betekend
X-ORIGINAL-URL:https://beeldenstorm.be/web/beletterd-betekend
X-WR-CALDESC:Evenementen voor Beletterd &amp; Betekend
BEGIN:VTIMEZONE
TZID:Europe/Brussels
BEGIN:DAYLIGHT
TZOFFSETFROM:+0100
TZOFFSETTO:+0200
TZNAME:CEST
DTSTART:20180325T010000
END:DAYLIGHT
BEGIN:STANDARD
TZOFFSETFROM:+0200
TZOFFSETTO:+0100
TZNAME:CET
DTSTART:20181028T010000
END:STANDARD
END:VTIMEZONE
BEGIN:VEVENT
DTSTART;TZID=Europe/Brussels:20180223T090000
DTEND;TZID=Europe/Brussels:20180223T153000
DTSTAMP:20260421T191058
CREATED:20180220T141955Z
LAST-MODIFIED:20180220T141955Z
UID:6384-1519376400-1519399800@beeldenstorm.be
SUMMARY:Creatief met mode! "Op maat geknipt"
DESCRIPTION:Een atelier voor alle generaties: kinderen\, ouders en grootouders zijn welkom!\nIn dit atelier leer je werken met schaar\, naald en draad\, en met onze naaimachines. Je hoeft nog niet te kunnen naaien. Je leert creatief om te gaan met textiel en bestaande kleding:\n– kleding maken en restylen\,\n– verschillende decoratieve applicaties.
URL:https://beeldenstorm.be/web/beletterd-betekend/agenda-item/creatief-met-mode-op-maat-geknipt/2018-02-23/
LOCATION:beeldenstorm\, bergensesteenweg 145\, brussel\, 1070\, Belgium
CATEGORIES:naaiatelier
ATTACH;FMTTYPE=image/jpeg:https://beeldenstorm.be/web/beletterd-betekend/files/2018/02/SlX8dSl1TVqeBhzZ2PGc7Q_thumb_12df.jpg
END:VEVENT
END:VCALENDAR