BEGIN:VCALENDAR
VERSION:2.0
PRODID:-//Beletterd &amp; Betekend - ECPv5.1.6//NONSGML v1.0//EN
CALSCALE:GREGORIAN
METHOD:PUBLISH
X-WR-CALNAME:Beletterd &amp; Betekend
X-ORIGINAL-URL:https://beeldenstorm.be/web/beletterd-betekend
X-WR-CALDESC:Evenementen voor Beletterd &amp; Betekend
BEGIN:VTIMEZONE
TZID:Europe/Brussels
BEGIN:DAYLIGHT
TZOFFSETFROM:+0100
TZOFFSETTO:+0200
TZNAME:CEST
DTSTART:20180325T010000
END:DAYLIGHT
BEGIN:STANDARD
TZOFFSETFROM:+0200
TZOFFSETTO:+0100
TZNAME:CET
DTSTART:20181028T010000
END:STANDARD
END:VTIMEZONE
BEGIN:VEVENT
DTSTART;TZID=Europe/Brussels:20180322T100000
DTEND;TZID=Europe/Brussels:20180322T120000
DTSTAMP:20260423T125907
CREATED:20180110T113352Z
LAST-MODIFIED:20180110T113352Z
UID:6197-1521712800-1521720000@beeldenstorm.be
SUMMARY:Try-out
DESCRIPTION:
URL:https://beeldenstorm.be/web/beletterd-betekend/agenda-item/try-out-9/
LOCATION:beeldenstorm\, bergensesteenweg 145\, brussel\, 1070\, Belgium
END:VEVENT
END:VCALENDAR